BEGIN:VCALENDAR
PRODID:-//eluceo/ical//2.0/EN
VERSION:2.0
CALSCALE:GREGORIAN
BEGIN:VEVENT
UID:197b08ce1e5018e5a249febaa68d03ca
DTSTAMP:20260423T092550Z
SUMMARY:Golftrophy Dietschiberg
DESCRIPTION:
URL:https://rclw.ch/en/agenda/show/23218
DTSTART;TZID=Europe/Zurich:20120619T180000
DTEND;TZID=Europe/Zurich:20120619T180000
LOCATION:Grand Hotel National
CATEGORIES:Rotary
END:VEVENT
BEGIN:VTIMEZONE
TZID:Europe/Zurich
BEGIN:DAYLIGHT
DTSTART:20120619T180000
TZNAME:CEST
TZOFFSETTO:+0200
TZOFFSETFROM:+0200
END:DAYLIGHT
END:VTIMEZONE
END:VCALENDAR
