BEGIN:VCALENDAR
PRODID:-//eluceo/ical//2.0/EN
VERSION:2.0
CALSCALE:GREGORIAN
BEGIN:VEVENT
UID:bc7753f9ac7ebadfad66cf9d50d8bbeb
DTSTAMP:20260423T092131Z
SUMMARY:The Essence of Parfumery\, 
DESCRIPTION:Speaker(s): Vero Kern\, Parfumeurin und Inhaberin vero.chprofum
 o Zürich
URL:https://rclw.ch/en/agenda/show/25587
DTSTART;TZID=Europe/Zurich:20120814T121500
DTEND;TZID=Europe/Zurich:20120814T121500
LOCATION:Grand Hotel National
CATEGORIES:Rotary
END:VEVENT
BEGIN:VTIMEZONE
TZID:Europe/Zurich
BEGIN:DAYLIGHT
DTSTART:20120814T121500
TZNAME:CEST
TZOFFSETTO:+0200
TZOFFSETFROM:+0200
END:DAYLIGHT
END:VTIMEZONE
END:VCALENDAR
