BEGIN:VCALENDAR
PRODID:-//eluceo/ical//2.0/EN
VERSION:2.0
CALSCALE:GREGORIAN
BEGIN:VEVENT
UID:368e9455c4a4f7cbbdb857cb2c756f42
DTSTAMP:20260423T104948Z
SUMMARY:Klassifikationsvortrag Beat Hodel 
DESCRIPTION:Speaker(s): Beat Hodel 
URL:https://rclw.ch/en/agenda/show/25592
DTSTART;TZID=Europe/Zurich:20120830T180000
DTEND;TZID=Europe/Zurich:20120830T180000
LOCATION:Separate Einaldung 
CATEGORIES:Rotary
END:VEVENT
BEGIN:VTIMEZONE
TZID:Europe/Zurich
BEGIN:DAYLIGHT
DTSTART:20120830T180000
TZNAME:CEST
TZOFFSETTO:+0200
TZOFFSETFROM:+0200
END:DAYLIGHT
END:VTIMEZONE
END:VCALENDAR
