BEGIN:VCALENDAR
PRODID:-//eluceo/ical//2.0/EN
VERSION:2.0
CALSCALE:GREGORIAN
BEGIN:VEVENT
UID:56d795cf789a554ea981b01351414890
DTSTAMP:20260423T103625Z
SUMMARY:Klassifikationsabend
DESCRIPTION:Speaker(s): Christoph Schaltegger
URL:https://rclw.ch/en/agenda/show/28162
DTSTART;TZID=Europe/Zurich:20130221T180000
DTEND;TZID=Europe/Zurich:20130221T200000
LOCATION:gem. separater Einladung
CATEGORIES:Rotary
END:VEVENT
BEGIN:VTIMEZONE
TZID:Europe/Zurich
BEGIN:STANDARD
DTSTART:20130221T180000
TZNAME:CET
TZOFFSETTO:+0100
TZOFFSETFROM:+0100
END:STANDARD
END:VTIMEZONE
END:VCALENDAR
