BEGIN:VCALENDAR
PRODID:-//eluceo/ical//2.0/EN
VERSION:2.0
CALSCALE:GREGORIAN
BEGIN:VEVENT
UID:7fb40383925b79a6b1174a9e2f4c33f4
DTSTAMP:20260423T103236Z
SUMMARY:HECAC Nepal
DESCRIPTION:HECAC ist ein gemeinnütziges Projekt\, das zum Ziel hat\, nepa
 lesischen Weisenkindern Fürsorge\, Heim und Erziehung zu bieten.\nSpeaker
 (s): Katharina Loosli und Annelies Mettler\, Lenzerheide\nSoziales Engagem
 ent und Trekking im Himalaya-Staat Nepal.
URL:https://rclw.ch/en/agenda/show/29595
DTSTART;TZID=Europe/Zurich:20130226T121500
DTEND;TZID=Europe/Zurich:20130226T140000
LOCATION:Grand Hotel National
CATEGORIES:Rotary
END:VEVENT
BEGIN:VTIMEZONE
TZID:Europe/Zurich
BEGIN:STANDARD
DTSTART:20130226T121500
TZNAME:CET
TZOFFSETTO:+0100
TZOFFSETFROM:+0100
END:STANDARD
END:VTIMEZONE
END:VCALENDAR
