BEGIN:VCALENDAR
PRODID:-//eluceo/ical//2.0/EN
VERSION:2.0
CALSCALE:GREGORIAN
BEGIN:VEVENT
UID:2bf7af3e5ed1ecd6c7530c57fd5c90db
DTSTAMP:20260423T104109Z
SUMMARY:das "ORIGEN FESTIVAL"
DESCRIPTION:Speaker(s): Giovanni Netzer\, Savognin\, Intendant
URL:https://rclw.ch/en/agenda/show/29772
DTSTART;TZID=Europe/Zurich:20130402T120000
DTEND;TZID=Europe/Zurich:20130402T140000
LOCATION:Grand Hotel National
CATEGORIES:Rotary
END:VEVENT
BEGIN:VTIMEZONE
TZID:Europe/Zurich
BEGIN:DAYLIGHT
DTSTART:20130402T120000
TZNAME:CEST
TZOFFSETTO:+0200
TZOFFSETFROM:+0200
END:DAYLIGHT
END:VTIMEZONE
END:VCALENDAR
