BEGIN:VCALENDAR
PRODID:-//eluceo/ical//2.0/EN
VERSION:2.0
CALSCALE:GREGORIAN
BEGIN:VEVENT
UID:4d3c95df5916cc6508af1dfc8b2cc6b6
DTSTAMP:20260421T105546Z
SUMMARY:Gemeinsamer Lunch mit dem Rotary Club Luzern
DESCRIPTION:
URL:https://rclw.ch/en/agenda/show/30617
DTSTART;TZID=Europe/Zurich:20130513T120000
DTEND;TZID=Europe/Zurich:20130513T140000
LOCATION: Hotel Schweizerhof12:
CATEGORIES:Rotary
END:VEVENT
BEGIN:VTIMEZONE
TZID:Europe/Zurich
BEGIN:DAYLIGHT
DTSTART:20130513T120000
TZNAME:CEST
TZOFFSETTO:+0200
TZOFFSETFROM:+0200
END:DAYLIGHT
END:VTIMEZONE
END:VCALENDAR
