BEGIN:VCALENDAR
PRODID:-//eluceo/ical//2.0/EN
VERSION:2.0
CALSCALE:GREGORIAN
BEGIN:VEVENT
UID:d24b8f606b6054219524b61623383596
DTSTAMP:20260421T200839Z
SUMMARY:Generation to Generation Gesprächslunch
DESCRIPTION:Site internet: http://www.grandhotel-national.com
URL:https://rclw.ch/fr/agenda/show/136672
DTSTART;TZID=Europe/Zurich:20220104T121500
DTEND;TZID=Europe/Zurich:20220104T133000
LOCATION:Grand Hotel National\, Saal Ritz
CATEGORIES:Rotary
END:VEVENT
BEGIN:VTIMEZONE
TZID:Europe/Zurich
BEGIN:STANDARD
DTSTART:20220104T121500
TZNAME:CET
TZOFFSETTO:+0100
TZOFFSETFROM:+0100
END:STANDARD
END:VTIMEZONE
END:VCALENDAR
