BEGIN:VCALENDAR
PRODID:-//eluceo/ical//2.0/EN
VERSION:2.0
CALSCALE:GREGORIAN
BEGIN:VEVENT
UID:40d00624e3d435a2c8862aeffb32f79a
DTSTAMP:20260421T195020Z
SUMMARY:Generation to Generation Gesprächslunch
DESCRIPTION:Site internet: http://www.grandhotel-national.com
URL:https://rclw.ch/fr/agenda/show/136695
DTSTART;TZID=Europe/Zurich:20220412T121500
DTEND;TZID=Europe/Zurich:20220412T133000
LOCATION:Grand Hotel National\, Saal Ritz
CATEGORIES:Rotary
END:VEVENT
BEGIN:VTIMEZONE
TZID:Europe/Zurich
BEGIN:DAYLIGHT
DTSTART:20220412T121500
TZNAME:CEST
TZOFFSETTO:+0200
TZOFFSETFROM:+0200
END:DAYLIGHT
END:VTIMEZONE
END:VCALENDAR
