BEGIN:VCALENDAR
PRODID:-//eluceo/ical//2.0/EN
VERSION:2.0
CALSCALE:GREGORIAN
BEGIN:VEVENT
UID:3f769f266bb6d537aee37f9f4b81348d
DTSTAMP:20260421T093939Z
SUMMARY:Winter-Generalversammlung
DESCRIPTION:
URL:https://rclw.ch/fr/agenda/show/42132
DTSTART;TZID=Europe/Zurich:20150106T121500
DTEND;TZID=Europe/Zurich:20150106T121500
LOCATION:Grand Hotel National
CATEGORIES:Rotary
END:VEVENT
BEGIN:VTIMEZONE
TZID:Europe/Zurich
BEGIN:STANDARD
DTSTART:20150106T121500
TZNAME:CET
TZOFFSETTO:+0100
TZOFFSETFROM:+0100
END:STANDARD
END:VTIMEZONE
END:VCALENDAR
