BEGIN:VCALENDAR
PRODID:-//eluceo/ical//2.0/EN
VERSION:2.0
CALSCALE:GREGORIAN
BEGIN:VEVENT
UID:dd7adeaee43bc777c06c8a4122577104
DTSTAMP:20260419T134539Z
SUMMARY:CARTIER\, Juwelier der Könige entfällt wegen Unfall der Referenti
 n. Alternative: Gästival - 200 Jahre Gastfreundschaft Zentralschweiz.
DESCRIPTION:2015 ist das Jahr der Gastfreundschaft in der Zentralschweiz. H
 öhepunkt des Jubiläums ist die Seerose\, die vom 29. Mai bis 4. Oktober 
 2015 an verschiedenen Landestellen in den fünf Seekantonen andocken und a
 ls Begegnungsort für Gäste und Gastgeber\, für Kulturschaffende und Fes
 tivalbesucher\, für Vereine und Bevölkerung dienen wird.\nSite internet:
  http://www.gaestival.ch\nConférencier(s): Stefan Ragaz\, Medienbeauftrag
 ter OK Gästival
URL:https://rclw.ch/fr/agenda/show/42154
DTSTART;TZID=Europe/Zurich:20150407T121500
DTEND;TZID=Europe/Zurich:20150407T121500
LOCATION:Grand Hotel National
CATEGORIES:Rotary
END:VEVENT
BEGIN:VTIMEZONE
TZID:Europe/Zurich
BEGIN:DAYLIGHT
DTSTART:20150407T121500
TZNAME:CEST
TZOFFSETTO:+0200
TZOFFSETFROM:+0200
END:DAYLIGHT
END:VTIMEZONE
END:VCALENDAR
