BEGIN:VCALENDAR
PRODID:-//eluceo/ical//2.0/EN
VERSION:2.0
CALSCALE:GREGORIAN
BEGIN:VEVENT
UID:780f9a25e01875baeb9e0aad31a9773a
DTSTAMP:20260419T133236Z
SUMMARY:Präsenz-Apéro
DESCRIPTION:
URL:https://rclw.ch/fr/agenda/show/42318
DTSTART;TZID=Europe/Zurich:20150206T181500
DTEND;TZID=Europe/Zurich:20150206T181500
LOCATION:Grand Hotel National
CATEGORIES:Rotary
END:VEVENT
BEGIN:VTIMEZONE
TZID:Europe/Zurich
BEGIN:STANDARD
DTSTART:20150206T181500
TZNAME:CET
TZOFFSETTO:+0100
TZOFFSETFROM:+0100
END:STANDARD
END:VTIMEZONE
END:VCALENDAR
