BEGIN:VCALENDAR
PRODID:-//eluceo/ical//2.0/EN
VERSION:2.0
CALSCALE:GREGORIAN
BEGIN:VEVENT
UID:d8c105090ed377fd7ce9ea5a5766523d
DTSTAMP:20260424T115903Z
SUMMARY:Weihnachtsfeier Rotary Club Luzern Wasserturm – Partneranlass  «
 Generation to Generation»
DESCRIPTION:
URL:https://rclw.ch/is/agenda/show/135369
DTSTART;TZID=Europe/Zurich:20211215T180000
DTEND;TZID=Europe/Zurich:20211215T230000
LOCATION:Start: Haus Herren zu Schützen\, Fortsetzung: Mill’Feuille
CATEGORIES:Rotary
END:VEVENT
BEGIN:VTIMEZONE
TZID:Europe/Zurich
BEGIN:STANDARD
DTSTART:20211215T180000
TZNAME:CET
TZOFFSETTO:+0100
TZOFFSETFROM:+0100
END:STANDARD
END:VTIMEZONE
END:VCALENDAR
