BEGIN:VCALENDAR
PRODID:-//eluceo/ical//2.0/EN
VERSION:2.0
CALSCALE:GREGORIAN
BEGIN:VEVENT
UID:264a0c227a8e95eaac8824d609a08c35
DTSTAMP:20260421T204741Z
SUMMARY:Generation to Generation Gesprächslunch und Programm-Vorstellung R
 CLW/RCL 1. Halbjahr 2022
DESCRIPTION:Vefsíða: http://www.grandhotel-national.com
URL:https://rclw.ch/is/agenda/show/136662
DTSTART;TZID=Europe/Zurich:20211221T121500
DTEND;TZID=Europe/Zurich:20211221T133000
LOCATION:Grand Hotel National\, Saal Ritz
CATEGORIES:Rotary
END:VEVENT
BEGIN:VTIMEZONE
TZID:Europe/Zurich
BEGIN:STANDARD
DTSTART:20211221T121500
TZNAME:CET
TZOFFSETTO:+0100
TZOFFSETFROM:+0100
END:STANDARD
END:VTIMEZONE
END:VCALENDAR
